BEGIN:VCALENDAR
VERSION:2.0
PRODID:-//RIGHTHERE//CALENDARIZE IT V3.2//EN
BEGIN:VTIMEZONE
TZID:Europe/Berlin
X-MICROSOFT-CDO-TZID:4
BEGIN:STANDARD
DTSTART:20251026T010000
TZOFFSETFROM:+0200
TZOFFSETTO:+0100
TZNAME:CET
END:STANDARD
BEGIN:DAYLIGHT
DTSTART:20260329T010000
TZOFFSETFROM:+0100
TZOFFSETTO:+0200
TZNAME:CEST
END:DAYLIGHT
BEGIN:STANDARD
DTSTART:20261025T010000
TZOFFSETFROM:+0200
TZOFFSETTO:+0100
TZNAME:CET
END:STANDARD
END:VTIMEZONE
BEGIN:VEVENT
UID:51088-events@www.wildparkmueden.de
DTSTART;VALUE=DATE:20260614
DTEND;VALUE=DATE:20260614
DTSTAMP;TZID=Europe/Berlin:20260421T144808
SUMMARY:Kindertag im Wildpark Müden
URL:https://www.wildparkmueden.de/veranstaltung/kindertag-im-wildpark-muede
 n/
ORGANIZER;CN=Wildpark Müden:MAILTO:kasse@wildparkmueden.de
LOCATION:Wildpark Müden\, Heuweg 23\, 29328 Müden
END:VEVENT
END:VCALENDAR