BEGIN:VCALENDAR
VERSION:2.0
PRODID:-//RIGHTHERE//CALENDARIZE IT V3.2//EN
BEGIN:VTIMEZONE
TZID:Europe/Berlin
X-MICROSOFT-CDO-TZID:4
BEGIN:STANDARD
DTSTART:20251026T010000
TZOFFSETFROM:+0200
TZOFFSETTO:+0100
TZNAME:CET
END:STANDARD
BEGIN:DAYLIGHT
DTSTART:20260329T010000
TZOFFSETFROM:+0100
TZOFFSETTO:+0200
TZNAME:CEST
END:DAYLIGHT
BEGIN:STANDARD
DTSTART:20261025T010000
TZOFFSETFROM:+0200
TZOFFSETTO:+0100
TZNAME:CET
END:STANDARD
END:VTIMEZONE
BEGIN:VEVENT
UID:5369-events@www.wildparkmueden.de
DTSTART;VALUE=DATE:20230318
DTEND;VALUE=DATE:20230318
DTSTAMP;TZID=Europe/Berlin:20190301T143225
SUMMARY:Wilder Saisonstart mit Flugschaustart
DESCRIPTION:Bis zum offiziellen Flugschaubeginn am 18. März\, könnt ihr t
 äglich um 12.00 Uhr und 15.00 Uhr beim Flugtraining zuschauen.
RDATE;TZID=Europe/Berlin;VALUE=PERIOD:20240317T000000/20240317T000000
URL:https://www.wildparkmueden.de/veranstaltung/wilder-saisonstart-mit-flug
 schaustart/
ORGANIZER;CN=Eventfalknerei:
LOCATION:Wildpark Müden\, Heuweg 23\, 29328 Müden
END:VEVENT
END:VCALENDAR